BEGIN:VCALENDAR
VERSION:2.0
PRODID:-//ISA Sarnia - ECPv6.3.3//NONSGML v1.0//EN
CALSCALE:GREGORIAN
METHOD:PUBLISH
X-ORIGINAL-URL:https://isasarnia.com
X-WR-CALDESC:Events for ISA Sarnia
REFRESH-INTERVAL;VALUE=DURATION:PT1H
X-Robots-Tag:noindex
X-PUBLISHED-TTL:PT1H
BEGIN:VTIMEZONE
TZID:UTC
BEGIN:STANDARD
TZOFFSETFROM:+0000
TZOFFSETTO:+0000
TZNAME:UTC
DTSTART:20210101T000000
END:STANDARD
END:VTIMEZONE
BEGIN:VEVENT
DTSTART;TZID=UTC:20210329T170000
DTEND;TZID=UTC:20210329T200000
DTSTAMP:20260423T151622
CREATED:20200807T155547Z
LAST-MODIFIED:20200908T114627Z
UID:4039-1617037200-1617048000@isasarnia.com
SUMMARY:Dinner Meeting -
DESCRIPTION:Update your Calendar\,  Save the Date and Plan to Join Us for our Dinner Meeting. \n\nDinner Meeting\n\n5:00 PM – Cocktails\n5:50 PM – President’s ISA/Section Updates\n6:00 PM – Dinner\n7:00 PM – Presentation\n\n\nDinner Menu\n\nCoq au Vin with Bacon & Pearl Onions Red Wine Reduction\nApple Butter Cheesecake\nCoffee and Tea\n\n\n\n  \n\nPresentation\n\nTopic / Subject To Be Advised\n\nPresentation Abstract To Follow\n\n\n\n\nSpeaker\n\nSpeaker To Be Advised\n\nSpeaker’s Bio To Be Advised\n\n\n\n\n\n  \n\nSafety Protocols & Requirements\n\nAll Guests must wear a mask (or face covering) when entering the Sarnia Golf & Curling Club (SGCC) and at anytime when not seated at your table.\nHand sanitizer stations have been set up at the entrance doors. Be surety to use the hand sanitizer when entering the facility.\nAll attendees and meeting participants will register with Ken Armitage upon arrival and will be required to confirm contact info (name/phone number) for contact tracing purposes if required.\nPlease do everything possible to ensure social distancing (2 metres) when not seated at the table.\nBar service is not available. A SGCC staff member will take your drink order once you are seated\, and serve you at your table.\nThe cut-off date to RSVP for the dinner will be 12:00pm the Thursday prior to the meeting.\n\n\nReservations\, Cost & Contact Information\n\n$15.00 for ISA Members\,  $25.00 for Non-Members\nAll ISA Members and Guests are requested to reserve in advance\nPlease reserve one week prior to this meeting’s date\nTo confirm your attendance\, please contact Lisa Pereira at Intertec\n\nPhone:  519 333 2800\nEmail:  lisa.pereira@intertec-inst.com\n\n\nFor special dietary needs\, please contact the Sarnia Golf & Curling Clue three (3) days prior to this meeting.\n\nPhone:  519 336 2201
URL:https://isasarnia.com/event/dinner-meeting-19/
LOCATION:Sarnia Golf & Curling Club\, 500 Errol Road West\, Sarnia\, Ontario\, N7V 1X7\, Canada
CATEGORIES:Dinner Meeting
END:VEVENT
END:VCALENDAR