BEGIN:VCALENDAR
VERSION:2.0
PRODID:-//ISA Sarnia - ECPv6.3.3//NONSGML v1.0//EN
CALSCALE:GREGORIAN
METHOD:PUBLISH
X-ORIGINAL-URL:https://isasarnia.com
X-WR-CALDESC:Events for ISA Sarnia
REFRESH-INTERVAL;VALUE=DURATION:PT1H
X-Robots-Tag:noindex
X-PUBLISHED-TTL:PT1H
BEGIN:VTIMEZONE
TZID:UTC
BEGIN:STANDARD
TZOFFSETFROM:+0000
TZOFFSETTO:+0000
TZNAME:UTC
DTSTART:20200101T000000
END:STANDARD
END:VTIMEZONE
BEGIN:VEVENT
DTSTART;TZID=UTC:20200127T170000
DTEND;TZID=UTC:20200127T200000
DTSTAMP:20260422T003119
CREATED:20200115T141802Z
LAST-MODIFIED:20200115T150237Z
UID:3746-1580144400-1580155200@isasarnia.com
SUMMARY:January Dinner Meeting
DESCRIPTION:Guest Speaker\nSasha Vuksanov\, Msc. ME\nCanadian Manager – Fire and Gas Detection Systems\nDräeger Safety Canada Ltd\nTopic: Gas Detection Systems; Tocix and Combustible\nGas Detection; Oxygen Monitoring; Open Path Gas\nDetection; Wireless Gas Detection \nBuffet Menu\nIl Trattoria Buffet\nFarfalle Pasta\, Creamy Alfredo \nSasha Vuksanov – Professional Bio\nSasha holds Master Degree in Mechanical Engineering and has over 25 years experience in instrumentation and fire and\ngas detection systems.\nHe is with Draeger Safety Canada Ltd. since 1997\, and after working several years as a Product Manager\, he transferred\nto sales management position. In his current role he covers Canada\, supporting sales and application solutions. He also\nfocuses on specific applications in Chemical\, Petro-chemical and Pulp and Paper markets. \nPlease RSVP before Friday\, January 24th 2020 by contacting Terri Bell at 519.333.2819 or email\nterri.bell@intertec-inst.com\nFor special dietary needs\, contact the Sarnia Golf & Curling Club three days prior to the meeting.\nNOTE: ALL Members and Guests are requested to reserve in advanced. \nPlease see the January 2020 Annunciator for more information
URL:https://isasarnia.com/event/january-dinner-meeting/
LOCATION:Sarnia Golf & Curling Club\, 500 Errol Road West\, Sarnia\, Ontario\, N7V 1X7\, Canada
CATEGORIES:Dinner Meeting
END:VEVENT
END:VCALENDAR