BEGIN:VCALENDAR
VERSION:2.0
PRODID:-//ISA Sarnia - ECPv6.3.3//NONSGML v1.0//EN
CALSCALE:GREGORIAN
METHOD:PUBLISH
X-ORIGINAL-URL:https://isasarnia.com
X-WR-CALDESC:Events for ISA Sarnia
REFRESH-INTERVAL;VALUE=DURATION:PT1H
X-Robots-Tag:noindex
X-PUBLISHED-TTL:PT1H
BEGIN:VTIMEZONE
TZID:UTC
BEGIN:STANDARD
TZOFFSETFROM:+0000
TZOFFSETTO:+0000
TZNAME:UTC
DTSTART:20190101T000000
END:STANDARD
END:VTIMEZONE
BEGIN:VEVENT
DTSTART;TZID=UTC:20190607T080000
DTEND;TZID=UTC:20190607T130000
DTSTAMP:20260423T191504
CREATED:20190125T035432Z
LAST-MODIFIED:20190423T013938Z
UID:3228-1559894400-1559912400@isasarnia.com
SUMMARY:Section Golf tournament
DESCRIPTION:ALL registration forms must be accompanied with the entry fees. Closing date for all entries is MAY 10\, 2019 @ 5:00 p.m. and be submitted to : \nISA Sarnia Section ( Golf )\n(c/o Ken Armitage 519-336-3453 (ken.armitage@swagelok.com))\nP.O. Box 206\nSarnia\, Ontario\, Canada\nN7T 7H9 \nTOURNAMENT DATE: FRIDAY \, JUNE 7\, 2019\nGOLF COURSE: ST. CLAIR PARKWAY GOLF COURSE\, MOORETOWN\nSPONSORSHIP & ENTRY FEE: $ 550.00 / FOUR-SOME (INCLUDING HST.)\nHOLE SPONSOR ONLY : $ 100.00 (Sponsor Signage)(INCLUDING HST.)\nINDIVIDUAL ENTRY FEE: $140.00 / PERSON (INCLUDING HST.)\nDINNER ENTRY ONLY: $25:00 / PERSON (INCLUDING HST.)\nTEE OFF TIME: Shotgun Start at 8:00 A.M. DINNER: Approx. 1:00 P.M. (Steak c/w trimmings)\nPRESENTATION OF PRIZES TO FOLLOW (MUST BE PRESENT TO WIN THE MAIN PRIZE)\nFor more information please see the two attachments\nGOLF applic form2019\nISA Golf Letter 2019
URL:https://isasarnia.com/event/section-golf-tournament/
LOCATION:St. Clair Parkway Golf Club\, 132 Moore Line\, Mooretown\, Ontario\, M0M 1M0\, Canada
END:VEVENT
BEGIN:VEVENT
DTSTART;TZID=UTC:20190624T173000
DTEND;TZID=UTC:20190624T200000
DTSTAMP:20260423T191504
CREATED:20180813T150024Z
LAST-MODIFIED:20190624T181547Z
UID:2945-1561397400-1561406400@isasarnia.com
SUMMARY:Executive Group Turnover Meeting
DESCRIPTION:ISA Sarnia Section – Executive Group Turnover Meeting \n5:30 PM – Dinner \n\nTBA\n\n6:00 PM – Call to Order \n\nAgenda Review\nPrevious Meeting’s Minutes\nPresident’s Update\nPrevious Business\nCommittee Reports\nNew Business\nRound Table Discussions\nAdjournment
URL:https://isasarnia.com/event/executive-group-turnover-meeting-2/
LOCATION:Sarnia Golf & Curling Club\, 500 Errol Road West\, Sarnia\, Ontario\, N7V 1X7\, Canada
CATEGORIES:Executive Group Meeting
END:VEVENT
END:VCALENDAR