BEGIN:VCALENDAR
VERSION:2.0
PRODID:-//ISA Sarnia - ECPv6.3.3//NONSGML v1.0//EN
CALSCALE:GREGORIAN
METHOD:PUBLISH
X-WR-CALNAME:ISA Sarnia
X-ORIGINAL-URL:https://isasarnia.com
X-WR-CALDESC:Events for ISA Sarnia
REFRESH-INTERVAL;VALUE=DURATION:PT1H
X-Robots-Tag:noindex
X-PUBLISHED-TTL:PT1H
BEGIN:VTIMEZONE
TZID:UTC
BEGIN:STANDARD
TZOFFSETFROM:+0000
TZOFFSETTO:+0000
TZNAME:UTC
DTSTART:20190101T000000
END:STANDARD
END:VTIMEZONE
BEGIN:VEVENT
DTSTART;TZID=UTC:20190409T110000
DTEND;TZID=UTC:20190409T180000
DTSTAMP:20260423T174425
CREATED:20190125T034451Z
LAST-MODIFIED:20190125T040041Z
UID:3221-1554807600-1554832800@isasarnia.com
SUMMARY:ISA Section Table Top Show
DESCRIPTION:
URL:https://isasarnia.com/event/isa-section-table-top-show/
LOCATION:Holiday Inn\, 1498 Venetian Blvd\, Point Edward\, Ontario\, N7T7W6\, Canada
END:VEVENT
BEGIN:VEVENT
DTSTART;TZID=UTC:20190429T173000
DTEND;TZID=UTC:20190429T200000
DTSTAMP:20260423T174425
CREATED:20180813T145729Z
LAST-MODIFIED:20190420T001015Z
UID:2943-1556559000-1556568000@isasarnia.com
SUMMARY:Executive Group Meeting
DESCRIPTION:ISA Sarnia Section – Executive Group Meeting \n5:30 PM – Dinner \n\nPizza & Salad\n\n6:00 PM – Call to Order \n\nAgenda Review\nPrevious Meeting’s Minutes\nPresident’s Update\nPrevious Business\nCommittee Reports\nNew Business\nRound Table Discussions\nAdjournment
URL:https://isasarnia.com/event/executive-group-meeting-17/
LOCATION:Sarnia Golf & Curling Club\, 500 Errol Road West\, Sarnia\, Ontario\, N7V 1X7\, Canada
CATEGORIES:Executive Group Meeting
END:VEVENT
END:VCALENDAR