BEGIN:VCALENDAR
VERSION:2.0
PRODID:-//ISA Sarnia - ECPv6.3.3//NONSGML v1.0//EN
CALSCALE:GREGORIAN
METHOD:PUBLISH
X-ORIGINAL-URL:https://isasarnia.com
X-WR-CALDESC:Events for ISA Sarnia
REFRESH-INTERVAL;VALUE=DURATION:PT1H
X-Robots-Tag:noindex
X-PUBLISHED-TTL:PT1H
BEGIN:VTIMEZONE
TZID:UTC
BEGIN:STANDARD
TZOFFSETFROM:+0000
TZOFFSETTO:+0000
TZNAME:UTC
DTSTART:20190101T000000
END:STANDARD
END:VTIMEZONE
BEGIN:VEVENT
DTSTART;TZID=UTC:20190128T170000
DTEND;TZID=UTC:20190128T200000
DTSTAMP:20260425T232035
CREATED:20180813T152952Z
LAST-MODIFIED:20181130T154535Z
UID:2951-1548694800-1548705600@isasarnia.com
SUMMARY:Dinner Meeting
DESCRIPTION:Update your calendar\, save the date and plan to join us for our Dinner Meeting. \n\nDinner Meeting\n\nCocktails: 5:00 PM\nDinner: 6:00 PM\nPresentation: 7:00 PM\n\n\nDinner Menu\n\nIl Trattoria Buffet\nFarfalle Pasta & Creamy Alfredo\n\n\n\n  \n\nPresentation\n\n\nSARNIA – LAMBTON \nSarnia-Lambton – Plans and Path Forward\n \n\nUpdate on Sarnia-Lambton Economic Partnership plans and outlook for the coming year\nDiscussion and vision for the path forward for Sarnia-Lambton\nAdditional details to follow\n\n\n\n\n\n\nSpeaker\n\nSpeaker – TBA\n\nDetails TBA\n\n\n\n\n\n  \n\nReservations\, Cost & Contact Information\n\n$15.00 for ISA Members\, $25.00 for Non-Members\nAll ISA Members and Guests are requested to reserve in advance\nPlease reserve before Monday – January 21\, 2019.\n\nTo confirm your attendance\, please contact Terri Bell at Intertec.\n– Phone: 519 333 2819\n– Email: terri.bell@intertec-inst.com\n\n\nFor special dietary needs\, please contact the Sarnia Golf & Curling Club three days prior to this meeting.\n\nPhone:  519 336 2201
URL:https://isasarnia.com/event/dinner-meeting-13/
LOCATION:Sarnia Golf & Curling Club\, 500 Errol Road West\, Sarnia\, Ontario\, N7V 1X7\, Canada
CATEGORIES:Dinner Meeting
END:VEVENT
END:VCALENDAR