BEGIN:VCALENDAR
VERSION:2.0
PRODID:-//ISA Sarnia - ECPv6.3.3//NONSGML v1.0//EN
CALSCALE:GREGORIAN
METHOD:PUBLISH
X-ORIGINAL-URL:https://isasarnia.com
X-WR-CALDESC:Events for ISA Sarnia
REFRESH-INTERVAL;VALUE=DURATION:PT1H
X-Robots-Tag:noindex
X-PUBLISHED-TTL:PT1H
BEGIN:VTIMEZONE
TZID:UTC
BEGIN:STANDARD
TZOFFSETFROM:+0000
TZOFFSETTO:+0000
TZNAME:UTC
DTSTART:20180101T000000
END:STANDARD
END:VTIMEZONE
BEGIN:VEVENT
DTSTART;TZID=UTC:20180924T170000
DTEND;TZID=UTC:20180924T200000
DTSTAMP:20260422T115926
CREATED:20180813T151947Z
LAST-MODIFIED:20180912T143928Z
UID:2947-1537808400-1537819200@isasarnia.com
SUMMARY:Dinner Meeting - United Way
DESCRIPTION:Update your calendar\, save the date and plan to join us for our Dinner Meeting. \n\nDinner Meeting\n\nCocktails: 5:00 PM\nDinner: 6:00 PM\nPresentation: 7:00 PM\n\n\nDinner Menu\n\nTraditional Dinner Buffet\nGreek Salad\, Fusilli Cuke & Dill\, Potato\, Rice\nChicken Supreme\, Red Wine & Onion Reduction\n\n\n\n  \n\nPresentation\n\nThe United Way\n\nAdditional details regarding this presentation to follow.\nUnited Way (Sarnia-Lambton)\, the charity and community programs.\n\n\n\n\n\n\nSpeaker\n\nDave Brown and Jason Killingsworth\n\nUnited Way – Sarnia-Lambton\nAdditional details to follow\n\n\n\n\n\n  \n\nReservations\, Cost & Contact Information\n\n$15.00 for ISA Members\, $25.00 for Non-Members\nAll ISA Members and Guests are requested to reserve in advance\nPlease reserve before Monday – September 17\, 2018.\n\nTo confirm your attendance\, please contact Terri Bell at Intertec.\n– Phone: 519 333 2819\n– Email: terri.bell@intertec-inst.com\n\n\nFor special dietary needs\, please contact the Sarnia Golf & Curling Club three days prior to this meeting.\n\nPhone:  519 336 2201\n\n\n\n\n\n 
URL:https://isasarnia.com/event/dinner-meeting-11/
LOCATION:500 Errol Road West\, Sarnia\, Ontario\, N7V 1X7\, Canada
CATEGORIES:Dinner Meeting
END:VEVENT
END:VCALENDAR