BEGIN:VCALENDAR
VERSION:2.0
PRODID:-//ISA Sarnia - ECPv6.3.3//NONSGML v1.0//EN
CALSCALE:GREGORIAN
METHOD:PUBLISH
X-WR-CALNAME:ISA Sarnia
X-ORIGINAL-URL:https://isasarnia.com
X-WR-CALDESC:Events for ISA Sarnia
REFRESH-INTERVAL;VALUE=DURATION:PT1H
X-Robots-Tag:noindex
X-PUBLISHED-TTL:PT1H
BEGIN:VTIMEZONE
TZID:UTC
BEGIN:STANDARD
TZOFFSETFROM:+0000
TZOFFSETTO:+0000
TZNAME:UTC
DTSTART:20230101T000000
END:STANDARD
END:VTIMEZONE
BEGIN:VEVENT
DTSTART;TZID=UTC:20230130T170000
DTEND;TZID=UTC:20230130T200000
DTSTAMP:20260422T081112
CREATED:20220912T205100Z
LAST-MODIFIED:20230116T202513Z
UID:4620-1675098000-1675108800@isasarnia.com
SUMMARY:Dinner Meeting - Latest Advances in Wireless Instrumentation
DESCRIPTION:Update your Calendar\, Save the Date and Plan to Join Us for our Dinner Meeting. \n\nDinner Meeting\n\n5:00 PM – Cocktails\n5:50 PM – President’s ISA/Section Updates\n6:00 PM – Dinner\n7:00 PM – Presentation\n\n\nBuffet Dinner Menu\n\nSoup of the Season\, Salad\nCarved Beef Sirloin\nPesto Crusted Tilapia\nDessert\, Coffee\, Tea\n\n\n\n  \n\nPresentation\n\nLatest Advances in Wireless Instrumentation\n\nDiscussion covering Different Technologies with new Advances and Abilities\n\nMesh Network Devices\n\nHow these work / Field applications\n\n\nStar Network Devices\n\nHow these work / Field applications\n\n\nRemote Asset monitoring using the Cloud\n\nHow these work / Field applications\n\n\nPros and Cons of each\nFeatures and Benefits of each to help decide which would work best for your application and site\n\n\n\n\n\n\nSpeakers\n\nPhillippe Laniel – Eastern Canada Sales Manager – SFC Energy\n\nPhilippe Laniel is SFC Energy’s Eastern Canada Sales Manager and has had a passion for industrial telemetry since graduating from Ahuntsic College in Montreal in the late 1990s; and later\, a Management degree from HEC Montreal which allowed him to combine his sales and technical experience.\nPhil’s unique technical and sales experience has led him to a career with SFC Energy where he is currently spearheading SFC’s expansion into Ontario\, including the exclusive distribution of Schneider’s Foxboro Instrumentation Products within the region. In addition to promoting the Foxboro\, Schneider industrial telemetry and EFOY product lines\, Phil is looking forward to building a strong\, local team in the Ontario Market.\n\n\nJustin Rechner – District Sales Manager for SE Canada – SFC Energy\n\nJustin Rechner received Red Seal Journeyman Instrumentation Ticket in 2012 from Northern Alberta Institute of Technology in Edmonton Alberta Canada. With over 13 years’ experience in Instrumentation in installation/Maintenance and over 9 years of Technical sales and Support.\nCurrent Role is District Sales Manager for SE Canada Territory.\n\n\n\n\n\n  \n\nReservations\, Cost & Contact Information\n\n$20.00 for ISA Members & Students\, $30.00 for Non-Members & Guests\nAll ISA Members and Guests are requested to reserve in advance\nPlease be sure to RSVP for the dinner by 12:00pm on January 26th\, the Thursday prior to the meeting\nTo confirm your attendance\, please contact Lisa Pereira at Intertec\n\nPhone: 519 333 2800\nEmail: lisa.pereira@intertec-inst.com\n\n\nFor special dietary needs\, please contact the Sarnia Golf & Curling Club three (3) days prior to this meeting.\nPhone: 519 336 2201
URL:https://isasarnia.com/event/dinner-meeting-25/
LOCATION:Sarnia Golf & Curling Club\, 500 Errol Road West\, Sarnia\, Ontario\, N7V 1X7\, Canada
CATEGORIES:Dinner Meeting
END:VEVENT
END:VCALENDAR