BEGIN:VCALENDAR
VERSION:2.0
PRODID:-//ISA Sarnia - ECPv6.3.3//NONSGML v1.0//EN
CALSCALE:GREGORIAN
METHOD:PUBLISH
X-ORIGINAL-URL:https://isasarnia.com
X-WR-CALDESC:Events for ISA Sarnia
REFRESH-INTERVAL;VALUE=DURATION:PT1H
X-Robots-Tag:noindex
X-PUBLISHED-TTL:PT1H
BEGIN:VTIMEZONE
TZID:UTC
BEGIN:STANDARD
TZOFFSETFROM:+0000
TZOFFSETTO:+0000
TZNAME:UTC
DTSTART:20220101T000000
END:STANDARD
END:VTIMEZONE
BEGIN:VEVENT
DTSTART;TZID=UTC:20220530T170000
DTEND;TZID=UTC:20220530T210000
DTSTAMP:20260422T031556
CREATED:20210629T165319Z
LAST-MODIFIED:20210629T165319Z
UID:4269-1653930000-1653944400@isasarnia.com
SUMMARY:Dinner Meeting - Awards Night
DESCRIPTION:Update your Calendar\,  Save the Date and Plan to Join Us for our Dinner Meeting & Awards Night \n\nThis final membership meeting for our 2021/2022 Section Year is being developed now\nAdditional information will be provided once the details are confirmed\n\n\n\n\n\n\n\n\n  \n\nReservations\, Cost & Contact Information\n\n$15.00 for ISA Members\,  $25.00 for Non-Members\nAll ISA Members and Guests are requested to reserve in advance\nPlease reserve one week prior to this meeting’s date\nTo confirm your attendance\, please contact Lisa Pereira at Intertec\n\nPhone:  519 333 2800\nEmail:  lisa.pereira@intertec-inst.com\n\n\nFor special dietary needs\, please contact the Sarnia Golf & Curling Club three (3) days prior to this meeting.\n\nPhone:  519 336 2201
URL:https://isasarnia.com/event/dinner-meeting-awards-night/
LOCATION:Ontario
CATEGORIES:Dinner Meeting
END:VEVENT
END:VCALENDAR