BEGIN:VCALENDAR
VERSION:2.0
PRODID:-//ISA Sarnia - ECPv6.3.3//NONSGML v1.0//EN
CALSCALE:GREGORIAN
METHOD:PUBLISH
X-ORIGINAL-URL:https://isasarnia.com
X-WR-CALDESC:Events for ISA Sarnia
REFRESH-INTERVAL;VALUE=DURATION:PT1H
X-Robots-Tag:noindex
X-PUBLISHED-TTL:PT1H
BEGIN:VTIMEZONE
TZID:UTC
BEGIN:STANDARD
TZOFFSETFROM:+0000
TZOFFSETTO:+0000
TZNAME:UTC
DTSTART:20220101T000000
END:STANDARD
END:VTIMEZONE
BEGIN:VEVENT
DTSTART;TZID=UTC:20220328T170000
DTEND;TZID=UTC:20220328T200000
DTSTAMP:20260423T185245
CREATED:20210629T164824Z
LAST-MODIFIED:20220309T173004Z
UID:4267-1648486800-1648497600@isasarnia.com
SUMMARY:Dinner Meeting - Digital & Automation Transformation
DESCRIPTION:Update your Calendar\,  Save the Date and Plan to Join Us for our Dinner Meeting. \n\nDinner Meeting\n\n5:00 PM – Cocktails\n5:50 PM – President’s ISA/Section Updates\n6:00 PM – Dinner\n7:00 PM – Presentation\n\n\nBuffet Dinner Menu\n\nSoup of the Season\, Market Greens\, Three Salad\, Seasonal Crudités & Dip\nPan Roasted Chicken with Roasted Garlic\, Mashed Potatoes\nPan Seared Salmon with Wok Vegetables\nGinger Beurre Blanc\,\nDessert\, Coffee\, Tea\n\n\n\n  \n\nPresentation\n\nDigital and Automation Transformation\n\nHow do artificial intelligence (AI)\, machine learning and Automation potentially change the game? What is the impact and considerations for Cybersecurity\, and what is right for Edge Based vs Cloud-based Data Positioning? How do we embrace Smart Connected Devices? What are some of the new technologies that show promise for improving operational efficiencies\, energy efficiency\, lessening environmental impacts and dealing with labour constraints?\nThis session will provide useful examples of what industry is planning and implementing in the coming years to deliver bottom line results\, including automation\, IIoT\, software\, big data\, through Examples of Energy\, Over Equipment Effectiveness (OEE)\, and Asset and Lifecycle Optimization Application.\n\n\n\n\nSpeakers\n\nKevin Culp\nTechnical Services & Solutions Manager – Electrozad \n\n34 years in Manufacturing and Automation Industry:\nLeads coordination of Partners\, Technology\, and Partnerships\nLeads recommendations and strategy’s for modernizing industrial automation systems. – Digital Transformation consulting and execution of Industry 4.0 initiatives\nLeads Electrozad’s Services team to provide Lifecycle\, Networking\, and Cybersecurity Services\nIndustry Specialities including Mining\, W/WW\, O+G\, Chemical. Food and Beverage in ProcessAdvised\n\n\nGraeme Weaver\nISA Senior Member\nBusiness Development Lead – Process Solutions & Information Software – Electrozad \n\n14 Years in Process Solutions:\nDrives Business Strategies for Electrozad to accelerate growth in Process Solutions and Information Software Business\nServes as domain expert for Rockwell Automation’s Process Solutions & Information Software focus areas\nServes as the Electrozad Product & Solution Specialist representing Endress+Hauser. Digital Transformation consulting and execution of Industry 4.0 initiatives\nIndustry Specialities including Mining\, W/WW\, O+G\, Chemical. Food and Beverage in Process\n\n\n\n\n\n  \n\nSafety Protocols & Requirements\n\nAll Guests must wear a mask (or face covering) when entering the Sarnia Golf & Curling Club (SGCC) and at anytime when not seated at your table.\nHand sanitizer stations have been set up at the entrance doors. Be surety to use the hand sanitizer when entering the facility.\nAll attendees and meeting participants will register with Ken Armitage upon arrival and will be required to confirm contact info (name/phone number) for contact tracing purposes if required.\nPlease do everything possible to ensure social distancing (2 metres) when not seated at the table.\nBar service is not available. A SGCC staff member will take your drink order once you are seated\, and serve you at your table.\nThe cut-off date to RSVP for the dinner will be 12:00pm the Thursday prior to the meeting.\n\n\nReservations\, Cost & Contact Information\n\n$15.00 for ISA Members\,  $25.00 for Non-Members\nAll ISA Members and Guests are requested to reserve in advance\nPlease RSVP before Noon on Thursday – March 24th\, 2022\nTo confirm your attendance\, please contact Lisa Pereira at Intertec\n\nPhone:  519 333 2800\nEmail:  lisa.pereira@intertec-inst.com\n\n\nFor special dietary needs\, please contact the Sarnia Golf & Curling Club three (3) days prior to this meeting.\n\nPhone:  519 336 2201
URL:https://isasarnia.com/event/dinner-meeting-23/
LOCATION:Sarnia Golf & Curling Club\, 500 Errol Road West\, Sarnia\, Ontario\, N7V 1X7\, Canada
CATEGORIES:Dinner Meeting
END:VEVENT
END:VCALENDAR