BEGIN:VCALENDAR
VERSION:2.0
PRODID:-//ISA Sarnia - ECPv6.3.3//NONSGML v1.0//EN
CALSCALE:GREGORIAN
METHOD:PUBLISH
X-ORIGINAL-URL:https://isasarnia.com
X-WR-CALDESC:Events for ISA Sarnia
REFRESH-INTERVAL;VALUE=DURATION:PT1H
X-Robots-Tag:noindex
X-PUBLISHED-TTL:PT1H
BEGIN:VTIMEZONE
TZID:UTC
BEGIN:STANDARD
TZOFFSETFROM:+0000
TZOFFSETTO:+0000
TZNAME:UTC
DTSTART:20170101T000000
END:STANDARD
END:VTIMEZONE
BEGIN:VEVENT
DTSTART;TZID=UTC:20171127T170000
DTEND;TZID=UTC:20171127T200000
DTSTAMP:20260422T124541
CREATED:20170627T131016Z
LAST-MODIFIED:20171104T225358Z
UID:2305-1511802000-1511812800@isasarnia.com
SUMMARY:Dinner Meeting
DESCRIPTION:Update your calendar\, save the date and plan to join us for our Dinner Meeting. \n\nDinner Meeting\n\nCocktails: 5:00 PM\nDinner: 6:00 PM\nPresentation: 7:00 PM\n\n\nDinner Menu\n\nMaple Roasted Squash Soup\nMaple Sausage Stuffed Pork\nCreme Brule\n\n\n\n  \n\nPresentation\n\nInline Analyzers and their Applications in Chemical Industries.\n\nModern industries face many challenges to remain profitable in the value upgrading of bulk and fine chemicals. Adherence to Industry 4.0 and Sustainable Chemistry principles are more than ever vital in taking on these challenges. A key aspect of these are the use of inline analyzers and their intelligent automation abilities. Inline opportunities in numerous applications will be discussed as well as their best practices. Examples include distillation columns and separation units\, scrubbers and strippers\, reaction vessels\, and auxiliary processes such as waste-water treatment and Co-generation facilities. Through the applications\, measurement opportunities for pH\, ORP\, dissolved oxygen\, turbidity\, conductivity\, and gas analyzers will be considered.\n\n\n\n\nSpeaker\n\nRyan Kershaw of Mettler-Toledo\n\nDr. Martin Schümperli\nGlobal Specialist – Chemical Industries and Applications\nDr. Schümperli has extensive experience throughout the chemical industry\,\npreforming visits and consultations at over 400 chemical production sites on\nbehalf of Mettler Toledo Process Analytics. These sites include (but not limited\nto):\n Bulk and Petrochemicals\n Intermediate and Fine Chemicals\n Pulp and Paper Industries\n Metals\, Mining\, and Minerals\n Herbicides and Pesticides\n Pigments\, Paints\, Coatings\, and Resins\n Hygienic and Personal Care Products\n Auxiliary Power Co-generation and Waste Water Facilities\nThe specialist for the chemical industry brings experience from providing on-site\nsupport and consultation for best-practices in implementing new\, and improving\nexisting instrumentation installations. Emphasis is first and foremost for\nsolutions to provide automated inline measurement systems with minimized and\nsimplified maintenance\, increased reliability\, enhanced safety\, and less process\ndowntime. Overall\, always adhering to a bottom line of value-added to the\nprocess and reducing production costs.\nThe broad background of Dr. Schümperli includes doctoral research at the\nesteemed Swiss Federal Institute of Technology (ETHz)\, and engineering\ndegrees (Chemical\, Manufacturing) from McMaster University in Canada\,\nprevious appointments also include: Industrial Inspection for the Region of Peel\nEnvironmental Control\, and LEAN and SIX SIGMA Engineering for Kraft Foods\nand Nestlé-Waters.\nHis background\, experience\, and sound understanding of chemical processes\,\nand their challenges\, allows for a unique opportunity to bring inline\nmeasurement solutions which can offer proven financial gain for the customer.\n\n\n\n\n\n  \n\nReservations\, Cost & Contact Information\n\n$15.00 for ISA Members\, $25.00 for Non-Members\nAll ISA Members and Guests are requested to reserve in advance\nPlease reserve before Monday – November 20\, 2017.\n\nTo confirm your attendance\, please contact Terri Bell at Intertec.\n– Phone: 519 333 2819\n– Email: terri.bell@intertec-inst.com\n\n\nFor special dietary needs\, please contact the Sarnia Golf & Curling Club three days prior to this meeting.\n\nPhone:  519 336 2201
URL:https://isasarnia.com/event/dinner-meeting-8/
LOCATION:Sarnia Golf & Curling Club\, 500 Errol Road West\, Sarnia\, Ontario\, N7V 1X7\, Canada
CATEGORIES:Dinner Meeting
END:VEVENT
END:VCALENDAR