BEGIN:VCALENDAR
VERSION:2.0
PRODID:-//ISA Sarnia - ECPv6.3.3//NONSGML v1.0//EN
CALSCALE:GREGORIAN
METHOD:PUBLISH
X-WR-CALNAME:ISA Sarnia
X-ORIGINAL-URL:https://isasarnia.com
X-WR-CALDESC:Events for ISA Sarnia
REFRESH-INTERVAL;VALUE=DURATION:PT1H
X-Robots-Tag:noindex
X-PUBLISHED-TTL:PT1H
BEGIN:VTIMEZONE
TZID:UTC
BEGIN:STANDARD
TZOFFSETFROM:+0000
TZOFFSETTO:+0000
TZNAME:UTC
DTSTART:20180101T000000
END:STANDARD
END:VTIMEZONE
BEGIN:VEVENT
DTSTART;TZID=UTC:20180326T170000
DTEND;TZID=UTC:20180326T200000
DTSTAMP:20260422T060923
CREATED:20170627T132156Z
LAST-MODIFIED:20180314T143111Z
UID:2310-1522083600-1522094400@isasarnia.com
SUMMARY:Dinner Meeting
DESCRIPTION:Update your calendar\, save the date and plan to join us for our Dinner Meeting. \n\nDinner Meeting\n\nCocktails: 5:00 PM\nDinner: 6:00 PM\nPresentation: 7:00 PM\n\n\nDinner Menu\n\nCreamy Tomato Soup\nBeef Tenderloin\nWarm Apple Crisp\n\n\n\n  \n\nPresentation\n\nIntelligent Sarnia Lambton\nSarnia-Lambton’s Journey to ICF Smart21 \n\n\nIntelligent Sarnia-Lambton: Sarnia-Lambton’s journey to ICF Smart21 recognition for the 3rd consecutive year.\n\n\n\n\n\nSpeaker\n\nChris Gould\nCOO\, Bluewater Regional Networks\, Inc.\nVP\, Bluewater Power Distribution Corporation\n\nChris has been in the electrical field for fifteen years. After a period of time in construction he spent four years managing the Electrical Distribution infrastructure for one of Sarnia’s refineries before joining Bluewater Power.\nChris began his career at Bluewater Power as the Vice President of Operations where he provided leadership and strategic direction to the Operations department. Responsibility for several lines of business within the utility led him to his new role of Vice President of Utility Development in 2016. In this position\, he plays a pivotal role in LDC Smart Grid initiatives including deployment of digital information\, control technology\, and real-time automated\, interactive technologies that help to improve the reliability of the electrical grid. Chris’ involvement in EV Charging Station deployment\, Grid Scale Energy Storage and Residential Energy Storage within Bluewater Power Distribution Corporation’s service territory has contributed to a green image as well as helped to stimulate economic development in the Sarnia-Lambton area.\nChris was originally appointed the VP of Bluewater Power’s newest affiliate\, Bluewater Regional Networks (BRN) in 2016 and was recently promoted to COO. BRN was formed to create a locally controlled\, carrier-grade high speed fibre network services company that provides reliable\, affordable and customer focused services in the Sarnia-Lambton area. Bluewater Regional Network’s vision is to be viewed as the network experts and consulting resource of choice for large enterprise.\n\n\n\n\n\n  \n\nReservations\, Cost & Contact Information\n\n$15.00 for ISA Members\, $25.00 for Non-Members\nAll ISA Members and Guests are requested to reserve in advance\nPlease reserve before Monday – March 19\, 2018.\n\nTo confirm your attendance\, please contact Terri Bell at Intertec.\n– Phone: 519 333 2819\n– Email: terri.bell@intertec-inst.com\n\n\nFor special dietary needs\, please contact the Sarnia Golf & Curling Club three days prior to this meeting.\n\nPhone:  519 336 2201
URL:https://isasarnia.com/event/dinner-meeting-10/
LOCATION:Sarnia Golf & Curling Club\, 500 Errol Road West\, Sarnia\, Ontario\, N7V 1X7\, Canada
CATEGORIES:Dinner Meeting
END:VEVENT
END:VCALENDAR