BEGIN:VCALENDAR
VERSION:2.0
PRODID:-//ISA Sarnia - ECPv6.3.3//NONSGML v1.0//EN
CALSCALE:GREGORIAN
METHOD:PUBLISH
X-ORIGINAL-URL:https://isasarnia.com
X-WR-CALDESC:Events for ISA Sarnia
REFRESH-INTERVAL;VALUE=DURATION:PT1H
X-Robots-Tag:noindex
X-PUBLISHED-TTL:PT1H
BEGIN:VTIMEZONE
TZID:America/Toronto
BEGIN:DAYLIGHT
TZOFFSETFROM:-0500
TZOFFSETTO:-0400
TZNAME:EDT
DTSTART:20170312T070000
END:DAYLIGHT
BEGIN:STANDARD
TZOFFSETFROM:-0400
TZOFFSETTO:-0500
TZNAME:EST
DTSTART:20171105T060000
END:STANDARD
END:VTIMEZONE
BEGIN:VEVENT
DTSTART;TZID=America/Toronto:20170327T170000
DTEND;TZID=America/Toronto:20170327T200000
DTSTAMP:20260423T171739
CREATED:20160705T092454Z
LAST-MODIFIED:20170123T151744Z
UID:1622-1490634000-1490644800@isasarnia.com
SUMMARY:Dinner Meeting - Lock-Outs/Tag-Outs as a Mobile App
DESCRIPTION:Update your calendar\, save the date and plan to join us for our Dinner Meeting. \n\nDinner Meeting\n\nCocktails: 5:00 PM\nDinner: 6:00 PM\nPresentation: 7:00 PM\n\n\nDinner Menu\n\nLobster Bisque\nGrilled Salmon\nBerry Creme Brulee\n\n\n\n  \n\nPresentation\n\n\nLock-Outs / Tag-Outs as a Mobile App\n\nBeacontree has just completed an Applied Research project with Lambton College that is called One-Touch Lock-Out (OTLO)\, an NFC-based system that will achieve an accident-free work environment for operators\, tradesmen and contractors.  NFC technology validates all lock-out/tag-outs (LOTO) are done safely and efficiently.\nThe presentation will show you how this mobile app facilitates shutdowns and startups while providing real-time status to management on how the hazardous energy control objectives are being met.\n\n\n\n\n\n\nSpeaker\n\n\nGeorge Roberts – President\, Beacontree Technologies\n\nIn the world of innovation\, George has evolved into a first class connector of people\, technology and methods.  With an aptitude for complex systems and over 35 years of industrial & business automation experience\, he has successfully developed and promoted innovative technologies in a practical\, profitable way on an international stage.\nGeorge holds a chemical engineering degree from the University of Waterloo\, an MBA from Wilfrid Laurier University and is a registered Professional Engineer in Ontario.\n\n\n\n\n\n  \n\nReservations\, Cost & Contact Information\n\n$15.00 for ISA Members\, $25.00 for Non-Members\nAll ISA Members and Guests are requested to reserve in advance\nPlease reserve before Wednesday – March 15th\, 2017.\n\nTo confirm your attendance\, please contact Terri Bell at Intertec.\n– Phone: 519 333 2819\n– Email: terri.bell@intertec-inst.com\n\n\nFor special dietary needs\, please contact the Sarnia Golf & Curling Club three days prior to this meeting.\n\nPhone:  519 336 2201
URL:https://isasarnia.com/event/dinner-meeting-6/
LOCATION:Sarnia Golf & Curling Club\, 500 Errol Road West\, Sarnia\, Ontario\, N7V 1X7\, Canada
CATEGORIES:Dinner Meeting
END:VEVENT
END:VCALENDAR