BEGIN:VCALENDAR
VERSION:2.0
PRODID:-//ISA Sarnia - ECPv6.3.3//NONSGML v1.0//EN
CALSCALE:GREGORIAN
METHOD:PUBLISH
X-ORIGINAL-URL:https://isasarnia.com
X-WR-CALDESC:Events for ISA Sarnia
REFRESH-INTERVAL;VALUE=DURATION:PT1H
X-Robots-Tag:noindex
X-PUBLISHED-TTL:PT1H
BEGIN:VTIMEZONE
TZID:UTC
BEGIN:STANDARD
TZOFFSETFROM:+0000
TZOFFSETTO:+0000
TZNAME:UTC
DTSTART:20220101T000000
END:STANDARD
END:VTIMEZONE
BEGIN:VEVENT
DTSTART;TZID=UTC:20220621T080000
DTEND;TZID=UTC:20220621T180000
DTSTAMP:20260425T101953
CREATED:20220207T153932Z
LAST-MODIFIED:20220207T155129Z
UID:4455-1655798400-1655834400@isasarnia.com
SUMMARY:PetroChem Canada - Premier Business & Technical Event
DESCRIPTION:PetroChem Canada — June 21-22\, 2022 — Sarnia\, Ontario \nThe Premier Business & Technical Event for Downstream Professionals \n  \n \nDeveloping Canada’s downstream sector is key to maximizing the value of our natural resources\, whilst meeting aggressive environmental targets. \nPetroChem Canada connects professionals from the petrochemical\, biochemical and chemical industries with their North American counterparts\, governments\, academia and the supply chain to meet\, share knowledge and forge long-term relationships. \nBusiness Conference – Overview Agenda for the Day \n\n8:00 am – 8:30 am  – Registration and Coffee\n8:30 am – 8:40 am  – Welcoming Remarks\n8:40 am – 9:00 am  – Opening Address\n9:00 am – 9:30 am  – Keynote Address\n9:30 am – 10:00 am  – Global Overview of Petrochemicals and how Canada Stacks up\n10:00 am – 10:30 am  – Networking Break\n10:30 am – 12:00 pm  – Investment Strategies: Creating Canadian Competitiveness\n12:00 pm – 1:00 pm  – Networking Lunch\n1:00 pm – 2:00 pm  – Creating Petrochemical Sustainability\n2:30 pm – 3:00 pm  – Networking Break\n2:30 pm – 3:30 pm  – Sustainable Practices for Post-Consumer Plastics\n4:30 pm – 6:00 pm  – Networking Reception\n\nFor more information on the PetroChem Canada Conference  –>>  PetroChem Canada Website
URL:https://isasarnia.com/event/petrochem-canada-premier-business-technical-event/
LOCATION:Sunbridge Hotel & Convention Centre\, 1498 Venetian Blvd\, Sarnia\, Ontrio\, N7T 7W6\, Canada
END:VEVENT
END:VCALENDAR