BEGIN:VCALENDAR
VERSION:2.0
PRODID:-//ISA Sarnia - ECPv6.3.3//NONSGML v1.0//EN
CALSCALE:GREGORIAN
METHOD:PUBLISH
X-WR-CALNAME:ISA Sarnia
X-ORIGINAL-URL:https://isasarnia.com
X-WR-CALDESC:Events for ISA Sarnia
REFRESH-INTERVAL;VALUE=DURATION:PT1H
X-Robots-Tag:noindex
X-PUBLISHED-TTL:PT1H
BEGIN:VTIMEZONE
TZID:UTC
BEGIN:STANDARD
TZOFFSETFROM:+0000
TZOFFSETTO:+0000
TZNAME:UTC
DTSTART:20220101T000000
END:STANDARD
END:VTIMEZONE
BEGIN:VEVENT
DTSTART;TZID=UTC:20220603T080000
DTEND;TZID=UTC:20220603T140000
DTSTAMP:20260425T113725
CREATED:20210630T143153Z
LAST-MODIFIED:20210630T143704Z
UID:4289-1654243200-1654264800@isasarnia.com
SUMMARY:ISA Sarnia Section Golf Tournament
DESCRIPTION:ISA Sarnia Section Golf Tournament \n \n\nWe look forward to our next Golf Tournament on June 3rd\, 2022\nwhich will take place at the St. Clair Parkway Golf Course.\n–  132 Moore Line\, Mooretown\, Ontario\nWe’re working on the plans and details; additional updates will be coming soon.\n\n 
URL:https://isasarnia.com/event/isa-sarnia-section-golf-tournament/
LOCATION:St. Clair Parkway Golf Club\, 132 Moore Line\, Mooretown\, Ontario\, M0M 1M0\, Canada
CATEGORIES:Golf Tournament
END:VEVENT
END:VCALENDAR