BEGIN:VCALENDAR
VERSION:2.0
PRODID:-//ISA Sarnia - ECPv6.3.3//NONSGML v1.0//EN
CALSCALE:GREGORIAN
METHOD:PUBLISH
X-WR-CALNAME:ISA Sarnia
X-ORIGINAL-URL:https://isasarnia.com
X-WR-CALDESC:Events for ISA Sarnia
REFRESH-INTERVAL;VALUE=DURATION:PT1H
X-Robots-Tag:noindex
X-PUBLISHED-TTL:PT1H
BEGIN:VTIMEZONE
TZID:UTC
BEGIN:STANDARD
TZOFFSETFROM:+0000
TZOFFSETTO:+0000
TZNAME:UTC
DTSTART:20200101T000000
END:STANDARD
END:VTIMEZONE
BEGIN:VEVENT
DTSTART;TZID=UTC:20200928T170000
DTEND;TZID=UTC:20200928T200000
DTSTAMP:20260421T165048
CREATED:20200806T180449Z
LAST-MODIFIED:20200915T153640Z
UID:4008-1601312400-1601323200@isasarnia.com
SUMMARY:Dinner Meeting - Lambton College Research & Innovation Department
DESCRIPTION:Update your Calendar\,  Save the Date and Plan to Join Us for our Dinner Meeting. \n\nDinner Meeting\n\n5:00 PM – Cocktails\n5:50 PM – President’s ISA/Section Updates\n6:00 PM – Dinner\n7:00 PM – Presentation\n\n\nDinner Menu\n\nMaple Sausage stuffed Pork Tenderloin with Apple Chutney\nLemon Raspberry Tart\nCoffee & Tea\n\n\n\n  \n\nPresentation\n\nLambton College Research & Innovation Department\n\nLambton College Research & Innovation department has been ranked in the top three research college’s in Canada by Research Infosource Inc. for the last four consecutive years. Lambton has established six research centers including Bioindustrial Process Research Centre (BPRC)\, Lambton Manufacturing Innovation Centre (LMIC)\, Lambton Water Centre (LWC)\, Lambton Energy Research Centre (LERC) Information Technology & Communication Research Centre (ITCRC) and the Centre for Industrial Material Development that collaborate with small and medium sized companies (SMEs). Andrea Hands\, Manager of Partnership\, Strategic Initiatives & Communications and Steve Reaume\, Associate Director of Research Operations will discuss and provide a presentation about the research model at Lambton\, how R&I supports Sarnia-Lambton and beyond. In addition project examples from each of the research centres will be presented.\n\n\n\n\nSpeakers\n\nAndrea Hands\n\nAndrea Hands is the Manager of Partnership\, Strategic Initiatives & Communications. In this role\, Andrea is responsible for management of partnership development\, strategic initiative advancement and all communication and outreach activities of the Research & Innovation department. Andrea supports research centres by identifying funding opportunities\, proposals development and strategic initiatives.\n\n\nStephen Reaume \n\nStephen Reaume is the Associate Director of Research Operations\, Infrastructure and Services. In this role\, Steve is responsible for the efficient and effective operation management of the College’s Technology Access Centres (TACs)\, Research Centres and a range of applied research projects and related activities. Steve supervises operations of all research projects along with the asset and resource management within research centres. Steve also works to identify resource gaps and develop strategies to fill these disparities.\n\n\n\n\n\n  \n\nSafety Protocols & Requirements\n\nAll Guests must wear a mask (or face covering) when entering the Sarnia Golf & Curling Club (SGCC) and at anytime when not seated at your table.\nHand sanitizer stations have been set up at the entrance doors. Be surety to use the hand sanitizer when entering the facility.\nAll attendees and meeting participants will register with Ken Armitage upon arrival and will be required to confirm contact info (name/phone number) for contact tracing purposes if required.\nPlease do everything possible to ensure social distancing (2 metres) when not seated at the table.\nBar service is not available. A SGCC staff member will take your drink order once you are seated\, and serve you at your table.\nThe cut-off date to RSVP for the dinner will be 12:00pm the Thursday prior to the meeting.\n\n\nReservations\, Cost & Contact Information\n\n$15.00 for ISA Members\,  $25.00 for Non-Members\nAll ISA Members and Guests are requested to reserve in advance\nTo confirm your attendance\, please contact Lisa Pereira at Intertec\n\nPhone:  519 333 2800\nEmail:  lisa.pereira@intertec-inst.com\n\n\nFor special dietary needs\, please contact the Sarnia Golf & Curling Clue three (3) days prior to this meeting.\n\nPhone:  519 336 2201
URL:https://isasarnia.com/event/dinner-meeting-16/
LOCATION:Sarnia Golf & Curling Club\, 500 Errol Road West\, Sarnia\, Ontario\, N7V 1X7\, Canada
CATEGORIES:Dinner Meeting
END:VEVENT
END:VCALENDAR