BEGIN:VCALENDAR
VERSION:2.0
PRODID:-//ISA Sarnia - ECPv6.3.3//NONSGML v1.0//EN
CALSCALE:GREGORIAN
METHOD:PUBLISH
X-ORIGINAL-URL:https://isasarnia.com
X-WR-CALDESC:Events for ISA Sarnia
REFRESH-INTERVAL;VALUE=DURATION:PT1H
X-Robots-Tag:noindex
X-PUBLISHED-TTL:PT1H
BEGIN:VTIMEZONE
TZID:UTC
BEGIN:STANDARD
TZOFFSETFROM:+0000
TZOFFSETTO:+0000
TZNAME:UTC
DTSTART:20180101T000000
END:STANDARD
END:VTIMEZONE
BEGIN:VEVENT
DTSTART;TZID=UTC:20181126T170000
DTEND;TZID=UTC:20181126T200000
DTSTAMP:20260422T163340
CREATED:20180813T152626Z
LAST-MODIFIED:20181111T013025Z
UID:2949-1543251600-1543262400@isasarnia.com
SUMMARY:Dinner Meeting
DESCRIPTION:Update your calendar\, save the date and plan to join us for our Dinner Meeting. \n\nDinner Meeting\n\nCocktails: 5:00 PM\nDinner: 6:00 PM\nPresentation: 7:00 PM\n\n\nDinner Menu\n\nWestern Style BBQ Buffet\nStriploin Steak\n\n\n\n  \n\nPresentation\n\nThermowells and the progression of designs\, calculations\, and materials.\n\nAdam has over 14 years of experience in instrumentation with WIKA. He graduated from the Northern Alberta Institute of Technology (NAIT) with a diploma in Engineering Design and Drafting\, specializing in machine design and started in the drafting department at WIKA.\nAfter several years of working for WIKA Canada as a Product Manager he transferred to the CoE (Center of Excellence) for Electrical Temperature Measurement (ETM). In this current role he covers the Americas region supporting manufacturing and sales with engineered Electrical Temperature Measurement solutions. He also focuses on special applications for temperature measurement including tube skin and multipoint products globally.\n\n\n\n\n\n\nSpeaker\n\nAdam DeLancey\, C.E.T.\n\nETM CoE Product Manager WIKA Instruments\, Inc.\n\n\n\n\n\n  \n\nReservations\, Cost & Contact Information\n\n$15.00 for ISA Members\, $25.00 for Non-Members\nAll ISA Members and Guests are requested to reserve in advance\nPlease reserve before Wednesday – November 21\, 2018.\n\nTo confirm your attendance\, please contact Terri Bell at Intertec.\n– Phone: 519 333 2819\n– Email: terri.bell@intertec-inst.com\n\n\nFor special dietary needs\, please contact the Sarnia Golf & Curling Club three days prior to this meeting.\n\nPhone:  519 336 2201
URL:https://isasarnia.com/event/dinner-meeting-12/
LOCATION:Sarnia Golf & Curling Club\, 500 Errol Road West\, Sarnia\, Ontario\, N7V 1X7\, Canada
CATEGORIES:Dinner Meeting
END:VEVENT
END:VCALENDAR