BEGIN:VCALENDAR
VERSION:2.0
PRODID:-//ISA Sarnia - ECPv6.3.3//NONSGML v1.0//EN
CALSCALE:GREGORIAN
METHOD:PUBLISH
X-ORIGINAL-URL:https://isasarnia.com
X-WR-CALDESC:Events for ISA Sarnia
REFRESH-INTERVAL;VALUE=DURATION:PT1H
X-Robots-Tag:noindex
X-PUBLISHED-TTL:PT1H
BEGIN:VTIMEZONE
TZID:America/Toronto
BEGIN:DAYLIGHT
TZOFFSETFROM:-0500
TZOFFSETTO:-0400
TZNAME:EDT
DTSTART:20170312T070000
END:DAYLIGHT
BEGIN:STANDARD
TZOFFSETFROM:-0400
TZOFFSETTO:-0500
TZNAME:EST
DTSTART:20171105T060000
END:STANDARD
END:VTIMEZONE
BEGIN:VEVENT
DTSTART;TZID=America/Toronto:20170602T070000
DTEND;TZID=America/Toronto:20170602T140000
DTSTAMP:20260425T235107
CREATED:20160831T224905Z
LAST-MODIFIED:20160831T224905Z
UID:1706-1496386800-1496412000@isasarnia.com
SUMMARY:2017 Golf Tournament
DESCRIPTION:ISA Sarnia Golf Tournament 2017 \n\nDate:  Friday – June 2nd\, 2017\nTime:  7:00 AM Buffet Breakfast -> 8:00 AM Shotgun Start\nVenue:  St. Clair Parkway Golf Course\, Mooretown\, ON\n\nAdditional information and details to follow \n 
URL:https://isasarnia.com/event/2017-golf-tournament/
LOCATION:St. Clair Parkway Golf Club\, 132 Moore Line\, Mooretown\, Ontario\, M0M 1M0\, Canada
CATEGORIES:Golf Tournament
END:VEVENT
END:VCALENDAR